BEGIN:VCALENDAR
VERSION:2.0
PRODID:-//Library Market//iCal Export//EN
BEGIN:VEVENT
SUMMARY:Baby &amp; Toddler Time-June Session Thursdays
UID:851
DTSTAMP:20260423T115200Z
DTSTART:20240627T143000Z
DTEND:20240627T151500Z
LOCATION:Byron Public Library District, 100 S Washington St., Byron, IL 61
 010, United States
ROOM: Meeting Room
DESCRIPTION:
URL:https://www.byronlibrary.org/event/copy-baby-toddler-time-june-session
 -thursdays-851
END:VEVENT
END:VCALENDAR
