BEGIN:VCALENDAR
VERSION:2.0
PRODID:-//Library Market//iCal Export//EN
BEGIN:VEVENT
SUMMARY:Playdough Playdate with Early Childhood Resource Fair
UID:8512
DTSTAMP:20260423T032200Z
DTSTART:20250927T140000Z
DTEND:20250927T170000Z
LOCATION:Byron Public Library District, 100 S Washington St., Byron, IL 61
 010, United States
ROOM: Meeting Room
DESCRIPTION:Drop in from 9:00-12:00 for playdough play, as well as child f
 riendly activities throughout the youth department. Learn about early chil
 dhood resources. Registration is not required but if you would like to rec
 eive a reminder, you can register. 
URL:https://www.byronlibrary.org/event/early-childhood-resource-fair-8512
END:VEVENT
END:VCALENDAR
