BEGIN:VCALENDAR
VERSION:2.0
PRODID:-//Library Market//iCal Export//EN
BEGIN:VEVENT
SUMMARY:Read to a Dog
UID:8520
DTSTAMP:20260423T032200Z
DTSTART:20250304T000000Z
DTEND:20250304T003000Z
LOCATION:Byron Public Library District, 100 S Washington St., Byron, IL 61
 010, United States
ROOM: Porch
DESCRIPTION:Spend some time reading to a certified therapy dog. This progr
 am is open to youth in 1st-5th grade, that are reading independently.  Ne
 w Procedure: Please check in with the youth desk when you arrive at the li
 brary to sign up for a time slot.
URL:https://www.byronlibrary.org/event/read-dog-8520
END:VEVENT
END:VCALENDAR
