BEGIN:VCALENDAR
VERSION:2.0
PRODID:-//Library Market//iCal Export//EN
BEGIN:VEVENT
SUMMARY:Lego Play Day
UID:8522
DTSTAMP:20260423T033300Z
DTSTART:20250319T204500Z
DTEND:20250319T214500Z
LOCATION:Byron Public Library District, 100 S Washington St., Byron, IL 61
 010, United States
ROOM: Activity Room
DESCRIPTION:Free building with Lego. Display your finished project in the 
 library! 
URL:https://www.byronlibrary.org/event/lego-play-day-8522
END:VEVENT
END:VCALENDAR
