BEGIN:VCALENDAR
VERSION:2.0
PRODID:-//Library Market//iCal Export//EN
BEGIN:VEVENT
SUMMARY:Create &amp; Play @ the Park
UID:856
DTSTAMP:20260423T113300Z
DTSTART:20240617T153000Z
DTEND:20240617T161500Z
LOCATION:Blackhawk Meadow Park, 2920 E. Mill Rd, Byron, IL 61010, United S
 tates
ROOM: Blackhawk Meadow Park
DESCRIPTION:
URL:https://www.byronlibrary.org/event/create-play-park-856
END:VEVENT
END:VCALENDAR
