BEGIN:VCALENDAR
VERSION:2.0
PRODID:-//Library Market//iCal Export//EN
BEGIN:VEVENT
SUMMARY:Playdough Playdate Storytime
UID:858
DTSTAMP:20260423T115100Z
DTSTART:20240606T143000Z
DTEND:20240606T153000Z
LOCATION:Byron Public Library District, 100 S Washington St., Byron, IL 61
 010, United States
ROOM: Activity Room
DESCRIPTION:Join Miss Julie for stories, rhymes, songs, movement, playtime
  and playdough!
URL:https://www.byronlibrary.org/event/playdough-playdate-storytime-thurs-
 858
END:VEVENT
END:VCALENDAR
