BEGIN:VCALENDAR
VERSION:2.0
PRODID:-//Library Market//iCal Export//EN
BEGIN:VEVENT
SUMMARY:Preschool Art Studio Storytime
UID:859
DTSTAMP:20260423T115100Z
DTSTART:20240612T143000Z
DTEND:20240612T153000Z
LOCATION:Byron Public Library District, 100 S Washington St., Byron, IL 61
 010, United States
ROOM: Activity Room
DESCRIPTION:Join Miss Julie for stories, rhymes, songs, movement, playtime
  and an art project!
URL:https://www.byronlibrary.org/event/preschool-art-studio-storytime-859
END:VEVENT
END:VCALENDAR
