BEGIN:VCALENDAR
VERSION:2.0
PRODID:-//Library Market//iCal Export//EN
BEGIN:VEVENT
SUMMARY:Parachute Play Storytime-Wednesday
UID:861
DTSTAMP:20260423T115100Z
DTSTART:20240619T143000Z
DTEND:20240619T153000Z
LOCATION:Byron Public Library District, 100 S Washington St., Byron, IL 61
 010, United States
ROOM: Activity Room
DESCRIPTION:Join Miss Julie for stories, rhymes, songs, movement, playtime
  with toys and parachute play!
URL:https://www.byronlibrary.org/event/parachute-play-storytime-861
END:VEVENT
END:VCALENDAR
