BEGIN:VCALENDAR
VERSION:2.0
PRODID:-//Library Market//iCal Export//EN
BEGIN:VEVENT
SUMMARY:Science Explorers Storytime-Wednesday
UID:863
DTSTAMP:20260423T113200Z
DTSTART:20240626T143000Z
DTEND:20240626T153000Z
LOCATION:Byron Public Library District, 100 S Washington St., Byron, IL 61
 010, United States
ROOM: Activity Room
DESCRIPTION:Join Miss Julie for stories, rhymes, songs, movement, playtime
  and some science experiments!
URL:https://www.byronlibrary.org/event/science-explorers-storytime-863
END:VEVENT
END:VCALENDAR
