BEGIN:VCALENDAR
VERSION:2.0
PRODID:-//Library Market//iCal Export//EN
BEGIN:VEVENT
SUMMARY:Science Explorers Storytime-Thursday
UID:864
DTSTAMP:20260423T113600Z
DTSTART:20240627T143000Z
DTEND:20240627T153000Z
LOCATION:Byron Public Library District, 100 S Washington St., Byron, IL 61
 010, United States
ROOM: Activity Room
DESCRIPTION:Join Miss Julie for stories, rhymes, songs, movement, playtime
  and some science experiments!
URL:https://www.byronlibrary.org/event/science-explorers-storytime-864
END:VEVENT
END:VCALENDAR
