BEGIN:VCALENDAR
VERSION:2.0
PRODID:-//Library Market//iCal Export//EN
BEGIN:VEVENT
SUMMARY:The Magic of Oz: Celebrate 85 Years!
UID:865
DTSTAMP:20260423T113300Z
DTSTART:20240822T230000Z
DTEND:20240823T003000Z
LOCATION:Byron Public Library District, 100 S Washington St., Byron, IL 61
 010, United States
ROOM: Meeting Room
DESCRIPTION:Follow the yellow brick road with Dorothy Gale and Toto into t
 he magical world of Oz! Historical presenter Michelle Gibbons, will deligh
 t audiences with a theatrical portrayal of beloved actress Judy Garland. L
 earn about Garland&#039;s worldwide fame, childhood, and struggles to star
 dom from her point of view. 
URL:https://www.byronlibrary.org/event/wizard-oz-program-865
END:VEVENT
END:VCALENDAR
