BEGIN:VCALENDAR
VERSION:2.0
PRODID:-//Library Market//iCal Export//EN
BEGIN:VEVENT
SUMMARY:Smarty Pants Balloon Show
UID:882
DTSTAMP:20260423T115100Z
DTSTART:20240708T160000Z
DTEND:20240708T170000Z
LOCATION:Byron Public Library District, 100 S Washington St., Byron, IL 61
 010, United States
ROOM: Meeting Room
DESCRIPTION:Smarty Pants if back for an all-new amazing show! Help decide 
 where the show will go as Smarty Pants presents: Choose Your Own Balloon A
 dventure. An entertaining show for the entire family. 
URL:https://www.byronlibrary.org/event/smarty-pants-balloon-show-882
END:VEVENT
END:VCALENDAR
