BEGIN:VCALENDAR
VERSION:2.0
PRODID:-//Library Market//iCal Export//EN
BEGIN:VEVENT
SUMMARY:Shark Party
UID:883
DTSTAMP:20260423T113200Z
DTSTART:20240722T230000Z
DTEND:20240722T234500Z
LOCATION:Byron Public Library District, 100 S Washington St., Byron, IL 61
 010, United States
ROOM: Activity Room &amp; Meeting Room
DESCRIPTION:Join us for activity and craft stations celebrating sharks!
URL:https://www.byronlibrary.org/event/shark-party-883
END:VEVENT
END:VCALENDAR
