BEGIN:VCALENDAR
VERSION:2.0
PRODID:-//Library Market//iCal Export//EN
BEGIN:VEVENT
SUMMARY:Sewing - Reusable Bag
UID:8837
DTSTAMP:20260423T033400Z
DTSTART:20250430T223000Z
DTEND:20250501T000000Z
LOCATION:Byron Public Library District, 100 S Washington St., Byron, IL 61
 010, United States
ROOM: Creative Studio
DESCRIPTION:In celebration of Earth Day, sign-up for a sewing workshop whe
 re you can create your very own reusable bag! In this fun and eco-friendly
  event, you&#039;ll learn how to sew a practical bag that&#039;s perfect f
 or carrying groceries, books, or other everyday essentials. Folds up small
  enough to slip inside your purse or pocket. Never be caught without a bag
  again! 
URL:https://www.byronlibrary.org/event/sewing-reusable-bag-8837
END:VEVENT
END:VCALENDAR
