BEGIN:VCALENDAR
VERSION:2.0
PRODID:-//Library Market//iCal Export//EN
BEGIN:VEVENT
SUMMARY:Family Fun &amp; Ice Cream
UID:884
DTSTAMP:20260423T115100Z
DTSTART:20240729T190000Z
DTEND:20240729T194500Z
LOCATION:Byron Public Library District, 100 S Washington St., Byron, IL 61
 010, United States
ROOM: Activity Room &amp; Meeting Room
DESCRIPTION:Join us for ice cream, plus craft, Lego &amp; activity station
 s!
URL:https://www.byronlibrary.org/event/family-fun-ice-cream-884
END:VEVENT
END:VCALENDAR
