BEGIN:VCALENDAR
VERSION:2.0
PRODID:-//Library Market//iCal Export//EN
BEGIN:VEVENT
SUMMARY:&quot;One Fox&quot; StoryWalk®-Heritage Farm
UID:886
DTSTAMP:20260423T115200Z
DTSTART:20240511T050000Z
DTEND:20240627T050000Z
LOCATION:Heritage Farm Museum, 8059 N. River Road, Byron, IL 61010, United
  States
ROOM: Byron Forest Preserve: Heritage Farm
DESCRIPTION:Current book: &quot;One Fox&quot; by Kate Read. One hungry fox
  with two sly eyes is on the prowl . . . three plump hens had better watch
  out! Rich and colorful illustrations plunge the reader into a dramatic an
 d exciting story set in a moonlit farmyard.
URL:https://www.byronlibrary.org/event/one-fox-storywalkr-heritage-farm-88
 6
END:VEVENT
END:VCALENDAR
