BEGIN:VCALENDAR
VERSION:2.0
PRODID:-//Library Market//iCal Export//EN
BEGIN:VEVENT
SUMMARY:Jelly Belly Taste Testing
UID:8868
DTSTAMP:20260423T033400Z
DTSTART:20250402T230000Z
DTEND:20250403T000000Z
LOCATION:Byron Public Library District, 100 S Washington St., Byron, IL 61
 010, United States
ROOM: Meeting Room
DESCRIPTION:Join us for a deliciously fun event at the library where you&#
 039;ll get the chance to sample an array of Jelly Belly jelly beans! Wheth
 er you&#039;re a candy connoisseur or just love to try new flavors, this e
 vent is sure to satisfy your sweet tooth. We&#039;ll have a wide variety o
 f Jelly Belly flavors for you to taste, including some classic favorites a
 nd perhaps a few unexpected surprises. 
URL:https://www.byronlibrary.org/event/jelly-belly-taste-testing-8868
END:VEVENT
END:VCALENDAR
