BEGIN:VCALENDAR
VERSION:2.0
PRODID:-//Library Market//iCal Export//EN
BEGIN:VEVENT
SUMMARY:Movie Showing: Easter Parade
UID:9036
DTSTAMP:20260423T032400Z
DTSTART:20250409T180000Z
DTEND:20250409T200000Z
LOCATION:Byron Public Library District, 100 S Washington St., Byron, IL 61
 010, United States
ROOM: Meeting Room
DESCRIPTION:Fred Astaire and Judy Garland star in this classic movie music
 al featuring 17 songs by Irving Berlin. When famous dancer Don Hewes&#039;
  partner, Nadine Hale deserts him, he makes a bet that he can make any cho
 rus girl into a star. The chorine he chooses--almost at random-- is Hanna 
 Brown. She starts out a talented nobody, but after singing and dancing her
  way with Hale through many of the best musical numbers ever filmed, she c
 omes back the star of Easter Parade! Rated GPopcorn will be served during 
 the movie.  
URL:https://www.byronlibrary.org/event/movie-showing-easter-parade-9036
END:VEVENT
END:VCALENDAR
