BEGIN:VCALENDAR
VERSION:2.0
PRODID:-//Library Market//iCal Export//EN
BEGIN:VEVENT
SUMMARY:Movie Night in a Box Kit
UID:9038
DTSTAMP:20260423T033400Z
DTSTART:20250411T140000Z
DTEND:20250411T220000Z
LOCATION:Byron Public Library District, 100 S Washington St., Byron, IL 61
 010, United States
ROOM: Movie Night in a Box Kit
DESCRIPTION:Sign up for Movie Night in a Box and receive 2 themed DVD&#039
 ;s handpicked just for you, along with some treats to complete your movie 
 night! (April&#039;s theme is book to film!)MUST HAVE A VALID LIBRARY CARD
  TO REGISTER! 
URL:https://www.byronlibrary.org/event/movie-night-box-kit-9038
END:VEVENT
END:VCALENDAR
