BEGIN:VCALENDAR
VERSION:2.0
PRODID:-//Library Market//iCal Export//EN
BEGIN:VEVENT
SUMMARY:Summer Vibes: Wine Glasses &amp; Cards
UID:908
DTSTAMP:20260423T115100Z
DTSTART:20240718T220000Z
DTEND:20240719T000000Z
LOCATION:Byron Public Library District, 100 S Washington St., Byron, IL 61
 010, United States
ROOM: Creative Studio &amp; Classroom 2
DESCRIPTION:Decorate stemless wine glasses and make some summertime cards!
  
URL:https://www.byronlibrary.org/event/summer-vibes-wine-glasses-cards-908
END:VEVENT
END:VCALENDAR
