BEGIN:VCALENDAR
VERSION:2.0
PRODID:-//Library Market//iCal Export//EN
BEGIN:VEVENT
SUMMARY:Teen Dungeons &amp; Dragons
UID:9167
DTSTAMP:20260423T033400Z
DTSTART:20250409T203000Z
DTEND:20250409T220000Z
LOCATION:Byron Public Library District, 100 S Washington St., Byron, IL 61
 010, United States
ROOM: Classroom 2
DESCRIPTION:Join our weekly after-school D&amp;D group, which is open to n
 ew and experienced players! The two Dungeon Masters alternate weeks, so it
  would be best to pick one D&amp;D campaign and come every other week, so 
 you stay with one DM and epic journey! There will be no D&amp;D in May, bu
 t it will resume in June. Jacob- 4/2, 4/16, 4/30Adam-  4/9, 4/23
URL:https://www.byronlibrary.org/event/teen-dungeons-dragons-9167
END:VEVENT
END:VCALENDAR
