BEGIN:VCALENDAR
VERSION:2.0
PRODID:-//Library Market//iCal Export//EN
BEGIN:VEVENT
SUMMARY:Peep Science
UID:9185
DTSTAMP:20260423T033400Z
DTSTART:20250410T204500Z
DTEND:20250410T213000Z
LOCATION:Byron Public Library District, 100 S Washington St., Byron, IL 61
 010, United States
ROOM: Activity Room
DESCRIPTION:Experiment with peeps (and taste them too). For youth in K-5th
  grade.
URL:https://www.byronlibrary.org/event/peep-science-9185
END:VEVENT
END:VCALENDAR
