BEGIN:VCALENDAR
VERSION:2.0
PRODID:-//Library Market//iCal Export//EN
BEGIN:VEVENT
SUMMARY:Drawing Workshop for Teens
UID:9205
DTSTAMP:20260423T033400Z
DTSTART:20250421T180000Z
DTEND:20250421T200000Z
LOCATION:Byron Public Library District, 100 S Washington St., Byron, IL 61
 010, United States
ROOM: Creative Studio
DESCRIPTION:On your day off school, join us for this two-hour Sketchy Draw
 ing Club program! Art helps us &quot;stop, look, and listen&quot;. Keeping
  a regular sketchbook makes room for us to do that in our busy lives--a pr
 actice that&#039;s good for us and ripples out to those around us. No art 
 skills needed. All supplies provided. A fun, interactive afternoon with il
 lustrator and author, Kyle L. White, on the Why and How of developing this
  art habit.
URL:https://www.byronlibrary.org/event/drawing-workshop-teens-9205
END:VEVENT
END:VCALENDAR
