BEGIN:VCALENDAR
VERSION:2.0
PRODID:-//Library Market//iCal Export//EN
BEGIN:VEVENT
SUMMARY:Volunteens- Pet Blankets
UID:9206
DTSTAMP:20260423T032200Z
DTSTART:20250407T230000Z
DTEND:20250408T003000Z
LOCATION:Byron Public Library District, 100 S Washington St., Byron, IL 61
 010, United States
ROOM: Meeting Room
DESCRIPTION:Earn volunteer credit by creating flannel pet blankets for pet
 s awaiting adoption at Tails Humane Society. The program will last until 7
 :30 pm. 
URL:https://www.byronlibrary.org/event/volunteens-pet-blankets-9206
END:VEVENT
END:VCALENDAR
