BEGIN:VCALENDAR
VERSION:2.0
PRODID:-//Library Market//iCal Export//EN
BEGIN:VEVENT
SUMMARY:Read to a Dog
UID:9245
DTSTAMP:20260423T033400Z
DTSTART:20250428T230000Z
DTEND:20250428T233000Z
LOCATION:Byron Public Library District, 100 S Washington St., Byron, IL 61
 010, United States
ROOM: Porch
DESCRIPTION:Spend some time reading to a certified therapy dog. This progr
 am is open to youth in 1st-5th grade, that are reading independently.  Ch
 eck in with the youth services desk when you arrive at the library to rece
 ive the start time for your 10-15 minute session.
URL:https://www.byronlibrary.org/event/read-dog-9245
END:VEVENT
END:VCALENDAR
