BEGIN:VCALENDAR
VERSION:2.0
PRODID:-//Library Market//iCal Export//EN
BEGIN:VEVENT
SUMMARY:Pom Pom Pals Kit
UID:9261
DTSTAMP:20260423T033600Z
DTSTART:20250425T140000Z
DTEND:20250425T220000Z
LOCATION:Byron Public Library District, 100 S Washington St., Byron, IL 61
 010, United States
ROOM: Pom Pom Pals Kit
DESCRIPTION:Create some pom pom animals! For youth in 1st-5th grade. This 
 is a take home kit; pick up begins on Friday, April 25.
URL:https://www.byronlibrary.org/event/pom-pom-pals-9261
END:VEVENT
END:VCALENDAR
