BEGIN:VCALENDAR
VERSION:2.0
PRODID:-//Library Market//iCal Export//EN
BEGIN:VEVENT
SUMMARY:Flowering Fun Kit
UID:9262
DTSTAMP:20260423T033200Z
DTSTART:20250425T140000Z
DTEND:20250425T220000Z
LOCATION:Byron Public Library District, 100 S Washington St., Byron, IL 61
 010, United States
ROOM: Flowering Fun Kit
DESCRIPTION:Use paint, paper flowers, stickers, &amp; beads to create a fl
 ower themed spring art project! This is a take home kit; pick up begins on
  Friday, April 25. For ages 3 years-K
URL:https://www.byronlibrary.org/event/flowering-fun-kit-9262
END:VEVENT
END:VCALENDAR
