BEGIN:VCALENDAR
VERSION:2.0
PRODID:-//Library Market//iCal Export//EN
BEGIN:VEVENT
SUMMARY:Sewing - Adjustable Book Cover
UID:9647
DTSTAMP:20260423T033100Z
DTSTART:20250528T223000Z
DTEND:20250529T000000Z
LOCATION:Byron Public Library District, 100 S Washington St., Byron, IL 61
 010, United States
ROOM: Creative Studio
DESCRIPTION:Protect your books with an adjustable book cover. This handy b
 ook cover will adjust for different book widths and includes a ribbon book
 mark. All materials supplied. Regardless of sewing experience, enrollment 
 in this class requires successful completion of the Beginner Sewing Class 
 at the Byron Public Library. 
URL:https://www.byronlibrary.org/event/sewing-adjustable-book-cover-9647
END:VEVENT
END:VCALENDAR
