BEGIN:VCALENDAR
VERSION:2.0
PRODID:-//Library Market//iCal Export//EN
BEGIN:VEVENT
SUMMARY:Handmade Mini Journal
UID:9650
DTSTAMP:20260423T033500Z
DTSTART:20250523T143000Z
DTEND:20250523T163000Z
LOCATION:Byron Public Library District, 100 S Washington St., Byron, IL 61
 010, United States
ROOM: Creative Studio
DESCRIPTION:In this class, you&#039;ll learn the basics of making a mini j
 ournal. To accompany the journal, you&#039;ll create a pocket to store it 
 in out of beautiful handmade paper. Dip into the world of bookmaking. It m
 ight become your newest creative hobby. All materials will be supplied. 
URL:https://www.byronlibrary.org/event/handmade-mini-journal-9650
END:VEVENT
END:VCALENDAR
