BEGIN:VCALENDAR
VERSION:2.0
PRODID:-//Library Market//iCal Export//EN
BEGIN:VEVENT
SUMMARY:Decoupage Tray Kit
UID:9696
DTSTAMP:20260423T033200Z
DTSTART:20250516T140000Z
DTEND:20250516T220000Z
LOCATION:Byron Public Library District, 100 S Washington St., Byron, IL 61
 010, United States
ROOM: Decoupage Tray Kit
DESCRIPTION:Using the decoupage technique, you will create a versatile acc
 ent tray for your home! This kit not only comes with a step-by-step photo 
 tutorial, but it also comes with several options so you can customize acco
 rding to your style! An idea guide is included for placement and decoratin
 g suggestions. NO REGISTRATION IS REQUIRED! This kit is available on a fir
 st come, first served basis! 
URL:https://www.byronlibrary.org/event/decoupage-tray-kit-9696
END:VEVENT
END:VCALENDAR
