BEGIN:VCALENDAR
VERSION:2.0
PRODID:-//Library Market//iCal Export//EN
BEGIN:VEVENT
SUMMARY:Pop-Up Cards
UID:9698
DTSTAMP:20260423T033200Z
DTSTART:20250513T223000Z
DTEND:20250514T003000Z
LOCATION:Byron Public Library District, 100 S Washington St., Byron, IL 61
 010, United States
ROOM: Creative Studio
DESCRIPTION:You&#039;ll make three different kinds of pop-up cards - a pop
 -up cupcake, a pop-up twist card and a wobble card. Each works in a unique
  way. While there is a pop-up element to each card, they all fold flat to 
 fit in an envelope. 
URL:https://www.byronlibrary.org/event/pop-cards-9698
END:VEVENT
END:VCALENDAR
