BEGIN:VCALENDAR
VERSION:2.0
PRODID:-//Library Market//iCal Export//EN
BEGIN:VEVENT
SUMMARY:DIY Embroidery Hoop Sign
UID:9699
DTSTAMP:20260423T033000Z
DTSTART:20250505T230000Z
DTEND:20250506T003000Z
LOCATION:Byron Public Library District, 100 S Washington St., Byron, IL 61
 010, United States
ROOM: Creative Studio
DESCRIPTION:Embroidery hoops are actually extremely versatile and not just
  for needlework! Join Cathy as she demonstrates a step-by-step process as 
 you create this embroidery hoop door sign. Perfect for any home décor or 
 to give as a gift. All supplies will be provided. 
URL:https://www.byronlibrary.org/event/diy-embroidery-hoop-sign-9699
END:VEVENT
END:VCALENDAR
