BEGIN:VCALENDAR
VERSION:2.0
PRODID:-//Library Market//iCal Export//EN
BEGIN:VEVENT
SUMMARY:Free Comic Book Day
UID:9842
DTSTAMP:20260423T033200Z
DTSTART:20250503T140000Z
DTEND:20250503T170000Z
LOCATION:Byron Public Library District, 100 S Washington St., Byron, IL 61
 010, United States
ROOM: Lobby
DESCRIPTION:Stop by the library anytime between 9:00 am- 12:00 pm (noon) a
 nd pick up your free comic books! A huge Grogu plushie will be raffled off
  for those who attend. We have comics for all ages. Come early to guarant
 ee the best selection. It will be in the downstairs lobby by the fireplace
 . No registration is needed- just show up! 
URL:https://www.byronlibrary.org/event/free-comic-book-day-9842
END:VEVENT
END:VCALENDAR
