BEGIN:VCALENDAR
VERSION:2.0
PRODID:-//Library Market//iCal Export//EN
BEGIN:VEVENT
SUMMARY:Basic Self Defense Demonstration
UID:9851
DTSTAMP:20260423T033400Z
DTSTART:20250522T230000Z
DTEND:20250523T000000Z
LOCATION:Byron Public Library District, 100 S Washington St., Byron, IL 61
 010, United States
ROOM: Meeting Room
DESCRIPTION:Join us for an engaging program led by a local Jiu-Jitsu instr
 uctor, who will guide you through basic self-defense moves. This hands-on 
 session will cover fundamental techniques for personal safety, focusing on
  practical moves that can be used in everyday situations. Whether you&#039
 ;re new to self-defense or looking to refresh your skills, this program is
  a great way to learn how to protect yourself in a safe and supportive env
 ironment! 
URL:https://www.byronlibrary.org/event/christines-program-9851
END:VEVENT
END:VCALENDAR
