BEGIN:VCALENDAR
VERSION:2.0
PRODID:-//Library Market//iCal Export//EN
BEGIN:VEVENT
SUMMARY:Baby &amp; Toddler Time-June Session
UID:9877
DTSTAMP:20260423T032200Z
DTSTART:20250618T143000Z
DTEND:20250618T151500Z
LOCATION:Byron Public Library District, 100 S Washington St., Byron, IL 61
 010, United States
ROOM: Meeting Room
DESCRIPTION:This registration covers all 4 weeks of the June 2025 session.
  Registration for July opens on June 15th.
URL:https://www.byronlibrary.org/event/baby-toddler-time-june-session-9877
END:VEVENT
END:VCALENDAR
