BEGIN:VCALENDAR
VERSION:2.0
PRODID:-//Library Market//iCal Export//EN
BEGIN:VEVENT
SUMMARY:Volunteens- Cards for Hospitalized Kids
UID:9897
DTSTAMP:20260423T033600Z
DTSTART:20250505T230000Z
DTEND:20250506T000000Z
LOCATION:Byron Public Library District, 100 S Washington St., Byron, IL 61
 010, United States
ROOM: Teen Department
DESCRIPTION:We will be making cheerful cards for the organization Cards fo
 r Hospitalized Kids for volunteer credit! This will be the last volunteer
  opportunity for the school year. Volunteens will resume in September. 
URL:https://www.byronlibrary.org/event/volunteens-cards-hospitalized-kidsp
 -9897
END:VEVENT
END:VCALENDAR
