BEGIN:VCALENDAR
VERSION:2.0
PRODID:-//Library Market//iCal Export//EN
BEGIN:VEVENT
SUMMARY:Meet the Dinosaurs Family Show
UID:9906
DTSTAMP:20260423T002000Z
DTSTART:20251119T000000Z
DTEND:20251119T004500Z
LOCATION:Byron Public Library District, 100 S Washington St., Byron, IL 61
 010, United States
ROOM: Meeting Room
DESCRIPTION:Meet the dinosaurs with Dinosaur Dimensions! For the entire fa
 mily; register children only.
URL:https://www.byronlibrary.org/event/dinosaur-dimensions-family-show-990
 6
END:VEVENT
END:VCALENDAR
