BEGIN:VCALENDAR
VERSION:2.0
PRODID:-//Library Market//iCal Export//EN
BEGIN:VEVENT
SUMMARY:Outdoor Fun Day @ the Heritage Farm
UID:9945
DTSTAMP:20260423T033700Z
DTSTART:20250514T150000Z
DTEND:20250514T161500Z
LOCATION:Heritage Farm Museum, 8059 N. River Road, Byron, IL 61010, United
  States
ROOM: Byron Forest Preserve: Heritage Farm
DESCRIPTION:Join the library and the preschol staff from the Byron Forest 
 Preserve for an outdoor fun day! Art, bubbles, play stations and more. Reg
 ister children only! Rain date is Thursday, May 15.
URL:https://www.byronlibrary.org/event/outdoor-fun-day-heritage-farm-9945
END:VEVENT
END:VCALENDAR
