BEGIN:VCALENDAR
VERSION:2.0
PRODID:-//Library Market//iCal Export//EN
BEGIN:VEVENT
SUMMARY:D&amp;D Extravaganza for Teens
UID:9946
DTSTAMP:20260423T033600Z
DTSTART:20250614T150000Z
DTEND:20250614T210000Z
LOCATION:Byron Public Library District, 100 S Washington St., Byron, IL 61
 010, United States
ROOM: Meeting Room
DESCRIPTION:Play an epic all-day (10 am- 4 pm) Dungeons &amp; Dragons game
 ! Multiple DM&#039;s will guide you through the one-shot White Plume Mount
 ain D&amp;D game. Pizza will be served for lunch!New and experienced playe
 rs are welcome. Pre-made character sheets will be available at the game. T
 his adventure is for 8th-level characters. If you would like to make your 
 own character and bring it, you may do so—please say so in the space bel
 ow. *If you would like help in creating an 8th-level character, one of the
  DM&#039;s will be available during Teen Time on Thursday, June 12th from 
 2-4 pm.Otherwise, you will be provided with a character made for you. If y
 ou have an idea for what kind of character you&#039;d like to play, we can
  make it for you. In the space below, provide as much detail as you can ab
 out the type of character you&#039;d like (for example, you could say &quo
 t;I&#039;d like to play an elf wizard named Wendrell who can create fire&
 quot; or &quot;I want to play a character like Conan the Barbarian, except
  they&#039;re a gnome.&quot;), and we will do our best to accommodate you
 . If you have no preference, say so. 
URL:https://www.byronlibrary.org/event/dd-extravaganza-teens-9946
END:VEVENT
END:VCALENDAR
