BEGIN:VCALENDAR
VERSION:2.0
PRODID:-//Library Market//iCal Export//EN
BEGIN:VEVENT
SUMMARY:Indoor Beach Bash
UID:9948
DTSTAMP:20260423T032400Z
DTSTART:20250630T230000Z
DTEND:20250630T234500Z
LOCATION:Byron Public Library District, 100 S Washington St., Byron, IL 61
 010, United States
ROOM: Activity Room &amp; Meeting Room
DESCRIPTION:Join us for an indoor beach-themed program. Water and kinetic 
 sand play, as well as crafts and other activities.
URL:https://www.byronlibrary.org/event/indoor-beach-bash-9948
END:VEVENT
END:VCALENDAR
